BEGIN:VCALENDAR
VERSION:2.0
PRODID:-//Institut Saint-Boniface Parnasse - ECPv6.15.20//NONSGML v1.0//EN
CALSCALE:GREGORIAN
METHOD:PUBLISH
X-ORIGINAL-URL:https://secondaire.saint-boni.be
X-WR-CALDESC:Évènements pour Institut Saint-Boniface Parnasse
REFRESH-INTERVAL;VALUE=DURATION:PT1H
X-Robots-Tag:noindex
X-PUBLISHED-TTL:PT1H
BEGIN:VTIMEZONE
TZID:Europe/Brussels
BEGIN:DAYLIGHT
TZOFFSETFROM:+0100
TZOFFSETTO:+0200
TZNAME:CEST
DTSTART:20210328T010000
END:DAYLIGHT
BEGIN:STANDARD
TZOFFSETFROM:+0200
TZOFFSETTO:+0100
TZNAME:CET
DTSTART:20211031T010000
END:STANDARD
BEGIN:DAYLIGHT
TZOFFSETFROM:+0100
TZOFFSETTO:+0200
TZNAME:CEST
DTSTART:20220327T010000
END:DAYLIGHT
BEGIN:STANDARD
TZOFFSETFROM:+0200
TZOFFSETTO:+0100
TZNAME:CET
DTSTART:20221030T010000
END:STANDARD
BEGIN:DAYLIGHT
TZOFFSETFROM:+0100
TZOFFSETTO:+0200
TZNAME:CEST
DTSTART:20230326T010000
END:DAYLIGHT
BEGIN:STANDARD
TZOFFSETFROM:+0200
TZOFFSETTO:+0100
TZNAME:CET
DTSTART:20231029T010000
END:STANDARD
BEGIN:DAYLIGHT
TZOFFSETFROM:+0100
TZOFFSETTO:+0200
TZNAME:CEST
DTSTART:20240331T010000
END:DAYLIGHT
BEGIN:STANDARD
TZOFFSETFROM:+0200
TZOFFSETTO:+0100
TZNAME:CET
DTSTART:20241027T010000
END:STANDARD
END:VTIMEZONE
BEGIN:VEVENT
DTSTART;TZID=Europe/Brussels:20230314T183000
DTEND;TZID=Europe/Brussels:20230314T203000
DTSTAMP:20260425T014250
CREATED:20220817T124935Z
LAST-MODIFIED:20230310T102336Z
UID:2488-1678818600-1678825800@secondaire.saint-boni.be
SUMMARY:Soirée d'information sur les options du 3e degré
DESCRIPTION:Ce mardi 14 mars (18h30 – 21h30)\, l’Institut organise une soirée de présentation des options organisées à Saint-Boni au 3e degré (5e et 6e secondaires). Au cours de cette soirée\, vos enfants et vous aurez l’occasion de découvrir les spécificités des différents cours à option\, de poser vos questions et de rencontrer des professeurs qui enseignent les branches concernées. \nLe choix de l’option qui sera suivie pendant les deux dernières années du secondaire est d’autant plus important à anticiper et à réfléchir vu qu’il ne sera plus possible de modifier ce choix entre la 5e et la rhéto. En effet\, le 3e degré doit obligatoirement être effectué au sein de la même grille horaire (même en cas de changement d’école entre les deux années). \nVous trouverez ci-dessous toutes les informations pratiques : \nHoraire et lieux : \n\n18h30 : Accueil et présentation des options par la Direction dans la salle des fêtes de l’Institut\n19h30 : Présentation des options par les professeurs en plus petits comités dans des salles de classe (+ réponses aux questions)\n\nPublic visé : \n\nLes élèves de 4e secondaire et leurs parents.\n\nParking : \n\nParking possible dans les cours de récréation\, sous réserve de place encore disponible.
URL:https://secondaire.saint-boni.be/event/soiree-dinformation-sur-les-options-du-3e-degre/
CATEGORIES:Events - 4es
END:VEVENT
BEGIN:VEVENT
DTSTART;VALUE=DATE:20230308
DTEND;VALUE=DATE:20230311
DTSTAMP:20260425T014250
CREATED:20220817T124635Z
LAST-MODIFIED:20220817T124635Z
UID:2486-1678233600-1678492799@secondaire.saint-boni.be
SUMMARY:Retraites
DESCRIPTION:Informations pratiques suivront.
URL:https://secondaire.saint-boni.be/event/retraites/
CATEGORIES:Events - 5es
END:VEVENT
BEGIN:VEVENT
DTSTART;VALUE=DATE:20230308
DTEND;VALUE=DATE:20230311
DTSTAMP:20260425T014250
CREATED:20220817T124540Z
LAST-MODIFIED:20220817T124540Z
UID:2484-1678233600-1678492799@secondaire.saint-boni.be
SUMMARY:Journées sociales
DESCRIPTION:Informations pratiques suivront.
URL:https://secondaire.saint-boni.be/event/journees-sociales/
CATEGORIES:Events - 6es
END:VEVENT
BEGIN:VEVENT
DTSTART;VALUE=DATE:20230218
DTEND;VALUE=DATE:20230306
DTSTAMP:20260425T014250
CREATED:20220817T124359Z
LAST-MODIFIED:20220817T124359Z
UID:2482-1676678400-1678060799@secondaire.saint-boni.be
SUMMARY:Congé de Carnaval
DESCRIPTION:
URL:https://secondaire.saint-boni.be/event/conge-de-carnaval-2/
CATEGORIES:Events - 1res,Events - 2es,Events - 3es,Events - 4es,Events - 5es,Events - 6es,Events Institut
END:VEVENT
BEGIN:VEVENT
DTSTART;TZID=Europe/Brussels:20230203T190000
DTEND;TZID=Europe/Brussels:20230205T170000
DTSTAMP:20260425T014250
CREATED:20220817T124303Z
LAST-MODIFIED:20220817T124303Z
UID:2480-1675450800-1675616400@secondaire.saint-boni.be
SUMMARY:Festivités de la Chandeleur
DESCRIPTION:Informations pratiques suivront.
URL:https://secondaire.saint-boni.be/event/festivites-de-la-chandeleur/
CATEGORIES:Events - 1res,Events - 2es,Events - 3es,Events - 4es,Events - 5es,Events - 6es,Events Institut
END:VEVENT
BEGIN:VEVENT
DTSTART;TZID=Europe/Brussels:20230126T133000
DTEND;TZID=Europe/Brussels:20230126T153000
DTSTAMP:20260425T014250
CREATED:20230117T083907Z
LAST-MODIFIED:20230117T083907Z
UID:2780-1674739800-1674747000@secondaire.saint-boni.be
SUMMARY:Activités EVRAS - 5F
DESCRIPTION:Ces activités se dérouleront à la maison de quartier Malibran\, situé au numéro 10 de la rue de la Digue (1050 Ixelles). Voici\, ci-dessous\, les informations pratiques en fonction des classes : \n\nÉlèves de 5F\n\nJeudi 26 janvier de 13h30 à 15h30\nLes élèves se rendront sur place avec deux professeurs et rentreront chez eux par leurs propres moyens dès la fin de l’activité.
URL:https://secondaire.saint-boni.be/event/activites-evras-5f/
CATEGORIES:Events - 5es
END:VEVENT
BEGIN:VEVENT
DTSTART;TZID=Europe/Brussels:20230124T103000
DTEND;TZID=Europe/Brussels:20230124T123000
DTSTAMP:20260425T014250
CREATED:20230117T083814Z
LAST-MODIFIED:20230117T083814Z
UID:2778-1674556200-1674563400@secondaire.saint-boni.be
SUMMARY:Activités EVRAS - 5C (immersion)\, 5D et 5E
DESCRIPTION:Ces activités se dérouleront à la maison de quartier Malibran\, situé au numéro 10 de la rue de la Digue (1050 Ixelles). Voici\, ci-dessous\, les informations pratiques en fonction des classes : \n\nÉlèves de 5C (immersion)\, 5D et 5E\n\nMardi 24 janvier de 10h30 à 12h30\nLes élèves se rendront sur place avec deux professeurs.
URL:https://secondaire.saint-boni.be/event/activites-evras-5c-immersion-5d-et-5e/
CATEGORIES:Events - 5es
END:VEVENT
BEGIN:VEVENT
DTSTART;TZID=Europe/Brussels:20230124T083000
DTEND;TZID=Europe/Brussels:20230124T103000
DTSTAMP:20260425T014250
CREATED:20230117T083702Z
LAST-MODIFIED:20230117T083702Z
UID:2776-1674549000-1674556200@secondaire.saint-boni.be
SUMMARY:Activités EVRAS - 5A\, 5B et 5C (non immersion)
DESCRIPTION:Ces activités se dérouleront à la maison de quartier Malibran\, situé au numéro 10 de la rue de la Digue (1050 Ixelles). Voici\, ci-dessous\, les informations pratiques en fonction des classes : \n\nÉlèves de 5A\, 5B et 5C (non immersion)\n\nMardi 24 janvier de 08h30 à 10h30\nLes élèves sont attendus directement sur place pour 08h30. Deux professeurs les attendront à la maison de quartier Malibran et les raccompagneront à l’Institut à la fin de l’animation.
URL:https://secondaire.saint-boni.be/event/activites-evras-5a-5b-et-5c-non-immersion/
CATEGORIES:Events - 5es
END:VEVENT
BEGIN:VEVENT
DTSTART;TZID=Europe/Brussels:20230119T130000
DTEND;TZID=Europe/Brussels:20230119T160000
DTSTAMP:20260425T014250
CREATED:20230117T094011Z
LAST-MODIFIED:20230117T094011Z
UID:2784-1674133200-1674144000@secondaire.saint-boni.be
SUMMARY:Sortie ciné - 6e années
DESCRIPTION:Ce jeudi 19 janvier après-midi\, dans le cadre du cours d’histoire\, l’ensemble des élèves de 6e année partiront voir « Simone\, le voyage du siècle » au cinéma Vendôme. Ils quitteront l’Institut à 13h00 et se rendront jusque-là à pieds. Ils seront libérés à la fin de la projection\, prévue à 16h05\, et pourront rentrer directement chez eux par leurs propres moyens.
URL:https://secondaire.saint-boni.be/event/sortie-cine-6e-annees/
CATEGORIES:Events - 6es
END:VEVENT
BEGIN:VEVENT
DTSTART;TZID=Europe/Brussels:20230119T130000
DTEND;TZID=Europe/Brussels:20230119T160000
DTSTAMP:20260425T014250
CREATED:20230117T093914Z
LAST-MODIFIED:20230117T093914Z
UID:2782-1674133200-1674144000@secondaire.saint-boni.be
SUMMARY:Sortie ciné - 5e années
DESCRIPTION:Ce jeudi 19 janvier après-midi\, dans le cadre du cours de géographie (et de grec pour certains)\, l’ensemble des élèves de 5e année partiront voir « Tori et Lokita » au cinéma Vendôme. La projection sera suivie par une animation de la Ligue des Droits Humains au sujet de la situation des MENA (mineurs étrangers non accompagnés). \nLes élèves quitteront l’Institut à 13h00 et se rendront jusque-là à pieds. Ils seront libérés à la fin de l’animation\, prévue à 16h00\, et pourront rentrer directement chez eux par leurs propres moyens.
URL:https://secondaire.saint-boni.be/event/sortie-cine-5e-annees/
CATEGORIES:Events - 5es
END:VEVENT
BEGIN:VEVENT
DTSTART;TZID=Europe/Brussels:20230110T173000
DTEND;TZID=Europe/Brussels:20230110T203000
DTSTAMP:20260425T014250
CREATED:20220817T123856Z
LAST-MODIFIED:20220817T123856Z
UID:2474-1673371800-1673382600@secondaire.saint-boni.be
SUMMARY:Rencontres parents-professeurs
DESCRIPTION:Informations pratiques suivront.
URL:https://secondaire.saint-boni.be/event/rencontres-parents-professeurs-5/
CATEGORIES:Events - 1res,Events - 2es,Events - 3es,Events - 4es,Events - 5es,Events - 6es,Events Institut
END:VEVENT
BEGIN:VEVENT
DTSTART;VALUE=DATE:20221224
DTEND;VALUE=DATE:20230109
DTSTAMP:20260425T014250
CREATED:20220817T123738Z
LAST-MODIFIED:20220817T123738Z
UID:2472-1671840000-1673222399@secondaire.saint-boni.be
SUMMARY:Congé de Noël
DESCRIPTION:
URL:https://secondaire.saint-boni.be/event/conge-de-noel-2/
CATEGORIES:Events - 1res,Events - 2es,Events - 3es,Events - 4es,Events - 5es,Events - 6es,Events Institut
END:VEVENT
BEGIN:VEVENT
DTSTART;TZID=Europe/Brussels:20221223T083000
DTEND;TZID=Europe/Brussels:20221223T154500
DTSTAMP:20260425T014250
CREATED:20220817T123623Z
LAST-MODIFIED:20220817T123623Z
UID:2470-1671784200-1671810300@secondaire.saint-boni.be
SUMMARY:Bulletin (1-6)
DESCRIPTION:
URL:https://secondaire.saint-boni.be/event/bulletin-1-6-2/
CATEGORIES:Events - 1res,Events - 2es,Events - 3es,Events - 4es,Events - 5es,Events - 6es,Events Institut
END:VEVENT
BEGIN:VEVENT
DTSTART;VALUE=DATE:20221219
DTEND;VALUE=DATE:20221223
DTSTAMP:20260425T014250
CREATED:20221006T074307Z
LAST-MODIFIED:20221006T074307Z
UID:2593-1671408000-1671753599@secondaire.saint-boni.be
SUMMARY:Conseils de classe
DESCRIPTION:Les élèves restent chez eux sauf mention contraire (pour repasser un examen si absence pendant la session ou en cas de retenue par exemple)
URL:https://secondaire.saint-boni.be/event/conseils-de-classe-2/
CATEGORIES:Events - 1res,Events - 2es,Events - 3es,Events - 4es,Events - 5es,Events - 6es,Events Institut
END:VEVENT
BEGIN:VEVENT
DTSTART;VALUE=DATE:20221212
DTEND;VALUE=DATE:20221217
DTSTAMP:20260425T014250
CREATED:20221006T075740Z
LAST-MODIFIED:20221006T075740Z
UID:2617-1670803200-1671235199@secondaire.saint-boni.be
SUMMARY:Examens rhétos
DESCRIPTION:
URL:https://secondaire.saint-boni.be/event/examens-rhetos/
CATEGORIES:Events - 6es
END:VEVENT
BEGIN:VEVENT
DTSTART;VALUE=DATE:20221212
DTEND;VALUE=DATE:20221217
DTSTAMP:20260425T014250
CREATED:20221006T075356Z
LAST-MODIFIED:20221006T075356Z
UID:2611-1670803200-1671235199@secondaire.saint-boni.be
SUMMARY:Examens 5e année
DESCRIPTION:
URL:https://secondaire.saint-boni.be/event/examens-5e-annee/
CATEGORIES:Events - 5es
END:VEVENT
BEGIN:VEVENT
DTSTART;VALUE=DATE:20221212
DTEND;VALUE=DATE:20221217
DTSTAMP:20260425T014250
CREATED:20221006T075007Z
LAST-MODIFIED:20221006T075317Z
UID:2605-1670803200-1671235199@secondaire.saint-boni.be
SUMMARY:Examens 4e année
DESCRIPTION:
URL:https://secondaire.saint-boni.be/event/examens-4e-annee/
CATEGORIES:Events - 4es
END:VEVENT
BEGIN:VEVENT
DTSTART;VALUE=DATE:20221212
DTEND;VALUE=DATE:20221217
DTSTAMP:20260425T014250
CREATED:20221006T074711Z
LAST-MODIFIED:20221006T074711Z
UID:2599-1670803200-1671235199@secondaire.saint-boni.be
SUMMARY:Examens 3e année
DESCRIPTION:
URL:https://secondaire.saint-boni.be/event/examens-3e-annee/
CATEGORIES:Events - 3es
END:VEVENT
BEGIN:VEVENT
DTSTART;VALUE=DATE:20221212
DTEND;VALUE=DATE:20221217
DTSTAMP:20260425T014250
CREATED:20221006T074540Z
LAST-MODIFIED:20221006T074540Z
UID:2595-1670803200-1671235199@secondaire.saint-boni.be
SUMMARY:Examens 2e année
DESCRIPTION:
URL:https://secondaire.saint-boni.be/event/examens-2e-annee/
CATEGORIES:Events - 2es
END:VEVENT
BEGIN:VEVENT
DTSTART;VALUE=DATE:20221209
DTEND;VALUE=DATE:20221210
DTSTAMP:20260425T014250
CREATED:20221006T074630Z
LAST-MODIFIED:20221006T074630Z
UID:2597-1670544000-1670630399@secondaire.saint-boni.be
SUMMARY:Examens 2e année
DESCRIPTION:
URL:https://secondaire.saint-boni.be/event/examens-2e-annee-2/
CATEGORIES:Events - 2es
END:VEVENT
BEGIN:VEVENT
DTSTART;VALUE=DATE:20221208
DTEND;VALUE=DATE:20221210
DTSTAMP:20260425T014250
CREATED:20221006T075553Z
LAST-MODIFIED:20221006T075553Z
UID:2613-1670457600-1670630399@secondaire.saint-boni.be
SUMMARY:Examens 5e année
DESCRIPTION:
URL:https://secondaire.saint-boni.be/event/examens-5e-annee-2/
CATEGORIES:Events - 5es
END:VEVENT
BEGIN:VEVENT
DTSTART;VALUE=DATE:20221208
DTEND;VALUE=DATE:20221210
DTSTAMP:20260425T014250
CREATED:20221006T075107Z
LAST-MODIFIED:20221006T075107Z
UID:2607-1670457600-1670630399@secondaire.saint-boni.be
SUMMARY:Examens 4e année
DESCRIPTION:
URL:https://secondaire.saint-boni.be/event/examens-4e-annee-2/
CATEGORIES:Events - 4es
END:VEVENT
BEGIN:VEVENT
DTSTART;VALUE=DATE:20221208
DTEND;VALUE=DATE:20221210
DTSTAMP:20260425T014250
CREATED:20221006T074853Z
LAST-MODIFIED:20221006T074853Z
UID:2601-1670457600-1670630399@secondaire.saint-boni.be
SUMMARY:Examens 3e année
DESCRIPTION:
URL:https://secondaire.saint-boni.be/event/examens-3e-annee-2/
CATEGORIES:Events - 3es
END:VEVENT
BEGIN:VEVENT
DTSTART;VALUE=DATE:20221208
DTEND;VALUE=DATE:20221209
DTSTAMP:20260425T014250
CREATED:20221006T075817Z
LAST-MODIFIED:20221006T075817Z
UID:2619-1670457600-1670543999@secondaire.saint-boni.be
SUMMARY:Examens rhétos
DESCRIPTION:
URL:https://secondaire.saint-boni.be/event/examens-rhetos-2/
CATEGORIES:Events - 6es
END:VEVENT
BEGIN:VEVENT
DTSTART;VALUE=DATE:20221205
DTEND;VALUE=DATE:20221206
DTSTAMP:20260425T014250
CREATED:20221006T075701Z
LAST-MODIFIED:20221006T075701Z
UID:2615-1670198400-1670284799@secondaire.saint-boni.be
SUMMARY:Examens 5e année
DESCRIPTION:
URL:https://secondaire.saint-boni.be/event/examens-5e-annee-3/
CATEGORIES:Events - 5es
END:VEVENT
BEGIN:VEVENT
DTSTART;VALUE=DATE:20221205
DTEND;VALUE=DATE:20221206
DTSTAMP:20260425T014250
CREATED:20221006T075229Z
LAST-MODIFIED:20221006T075229Z
UID:2609-1670198400-1670284799@secondaire.saint-boni.be
SUMMARY:Examens 4e année
DESCRIPTION:
URL:https://secondaire.saint-boni.be/event/examens-4e-annee-3/
CATEGORIES:Events - 4es
END:VEVENT
BEGIN:VEVENT
DTSTART;VALUE=DATE:20221205
DTEND;VALUE=DATE:20221206
DTSTAMP:20260425T014250
CREATED:20221006T074923Z
LAST-MODIFIED:20221006T074923Z
UID:2603-1670198400-1670284799@secondaire.saint-boni.be
SUMMARY:Examens 3e année
DESCRIPTION:
URL:https://secondaire.saint-boni.be/event/examens-3e-annee-3/
CATEGORIES:Events - 3es
END:VEVENT
BEGIN:VEVENT
DTSTART;TZID=Europe/Brussels:20221126T130000
DTEND;TZID=Europe/Brussels:20221126T170000
DTSTAMP:20260425T014250
CREATED:20220817T123425Z
LAST-MODIFIED:20221114T102430Z
UID:2468-1669467600-1669482000@secondaire.saint-boni.be
SUMMARY:Journée Portes Ouvertes
DESCRIPTION:
URL:https://secondaire.saint-boni.be/event/journee-portes-ouvertes-2/
CATEGORIES:Events Institut
END:VEVENT
BEGIN:VEVENT
DTSTART;TZID=Europe/Brussels:20221115T200000
DTEND;TZID=Europe/Brussels:20221115T220000
DTSTAMP:20260425T014250
CREATED:20220817T123312Z
LAST-MODIFIED:20221018T074931Z
UID:2466-1668542400-1668549600@secondaire.saint-boni.be
SUMMARY:Soirée des métiers
DESCRIPTION:
URL:https://secondaire.saint-boni.be/event/soiree-des-metiers-2/
CATEGORIES:Events - 5es
END:VEVENT
BEGIN:VEVENT
DTSTART;TZID=Europe/Brussels:20221115T200000
DTEND;TZID=Europe/Brussels:20221115T220000
DTSTAMP:20260425T014250
CREATED:20220817T123228Z
LAST-MODIFIED:20221018T074856Z
UID:2464-1668542400-1668549600@secondaire.saint-boni.be
SUMMARY:Soirée des métiers
DESCRIPTION:
URL:https://secondaire.saint-boni.be/event/soiree-des-metiers/
CATEGORIES:Events - 6es
END:VEVENT
END:VCALENDAR