BEGIN:VCALENDAR
VERSION:2.0
PRODID:-//Institut Saint-Boniface Parnasse - ECPv6.15.20//NONSGML v1.0//EN
CALSCALE:GREGORIAN
METHOD:PUBLISH
X-WR-CALNAME:Institut Saint-Boniface Parnasse
X-ORIGINAL-URL:https://secondaire.saint-boni.be
X-WR-CALDESC:Évènements pour Institut Saint-Boniface Parnasse
REFRESH-INTERVAL;VALUE=DURATION:PT1H
X-Robots-Tag:noindex
X-PUBLISHED-TTL:PT1H
BEGIN:VTIMEZONE
TZID:Europe/Brussels
BEGIN:DAYLIGHT
TZOFFSETFROM:+0100
TZOFFSETTO:+0200
TZNAME:CEST
DTSTART:20210328T010000
END:DAYLIGHT
BEGIN:STANDARD
TZOFFSETFROM:+0200
TZOFFSETTO:+0100
TZNAME:CET
DTSTART:20211031T010000
END:STANDARD
BEGIN:DAYLIGHT
TZOFFSETFROM:+0100
TZOFFSETTO:+0200
TZNAME:CEST
DTSTART:20220327T010000
END:DAYLIGHT
BEGIN:STANDARD
TZOFFSETFROM:+0200
TZOFFSETTO:+0100
TZNAME:CET
DTSTART:20221030T010000
END:STANDARD
BEGIN:DAYLIGHT
TZOFFSETFROM:+0100
TZOFFSETTO:+0200
TZNAME:CEST
DTSTART:20230326T010000
END:DAYLIGHT
BEGIN:STANDARD
TZOFFSETFROM:+0200
TZOFFSETTO:+0100
TZNAME:CET
DTSTART:20231029T010000
END:STANDARD
END:VTIMEZONE
BEGIN:VEVENT
DTSTART;VALUE=DATE:20221205
DTEND;VALUE=DATE:20221206
DTSTAMP:20260425T052429
CREATED:20221006T075701Z
LAST-MODIFIED:20221006T075701Z
UID:2615-1670198400-1670284799@secondaire.saint-boni.be
SUMMARY:Examens 5e année
DESCRIPTION:
URL:https://secondaire.saint-boni.be/event/examens-5e-annee-3/
CATEGORIES:Events - 5es
END:VEVENT
BEGIN:VEVENT
DTSTART;VALUE=DATE:20221205
DTEND;VALUE=DATE:20221206
DTSTAMP:20260425T052429
CREATED:20221006T075229Z
LAST-MODIFIED:20221006T075229Z
UID:2609-1670198400-1670284799@secondaire.saint-boni.be
SUMMARY:Examens 4e année
DESCRIPTION:
URL:https://secondaire.saint-boni.be/event/examens-4e-annee-3/
CATEGORIES:Events - 4es
END:VEVENT
BEGIN:VEVENT
DTSTART;VALUE=DATE:20221205
DTEND;VALUE=DATE:20221206
DTSTAMP:20260425T052429
CREATED:20221006T074923Z
LAST-MODIFIED:20221006T074923Z
UID:2603-1670198400-1670284799@secondaire.saint-boni.be
SUMMARY:Examens 3e année
DESCRIPTION:
URL:https://secondaire.saint-boni.be/event/examens-3e-annee-3/
CATEGORIES:Events - 3es
END:VEVENT
BEGIN:VEVENT
DTSTART;TZID=Europe/Brussels:20221126T130000
DTEND;TZID=Europe/Brussels:20221126T170000
DTSTAMP:20260425T052429
CREATED:20220817T123425Z
LAST-MODIFIED:20221114T102430Z
UID:2468-1669467600-1669482000@secondaire.saint-boni.be
SUMMARY:Journée Portes Ouvertes
DESCRIPTION:
URL:https://secondaire.saint-boni.be/event/journee-portes-ouvertes-2/
CATEGORIES:Events Institut
END:VEVENT
BEGIN:VEVENT
DTSTART;TZID=Europe/Brussels:20221115T200000
DTEND;TZID=Europe/Brussels:20221115T220000
DTSTAMP:20260425T052429
CREATED:20220817T123312Z
LAST-MODIFIED:20221018T074931Z
UID:2466-1668542400-1668549600@secondaire.saint-boni.be
SUMMARY:Soirée des métiers
DESCRIPTION:
URL:https://secondaire.saint-boni.be/event/soiree-des-metiers-2/
CATEGORIES:Events - 5es
END:VEVENT
BEGIN:VEVENT
DTSTART;TZID=Europe/Brussels:20221115T200000
DTEND;TZID=Europe/Brussels:20221115T220000
DTSTAMP:20260425T052429
CREATED:20220817T123228Z
LAST-MODIFIED:20221018T074856Z
UID:2464-1668542400-1668549600@secondaire.saint-boni.be
SUMMARY:Soirée des métiers
DESCRIPTION:
URL:https://secondaire.saint-boni.be/event/soiree-des-metiers/
CATEGORIES:Events - 6es
END:VEVENT
BEGIN:VEVENT
DTSTART;VALUE=DATE:20221111
DTEND;VALUE=DATE:20221112
DTSTAMP:20260425T052429
CREATED:20220817T123127Z
LAST-MODIFIED:20220817T123127Z
UID:2462-1668124800-1668211199@secondaire.saint-boni.be
SUMMARY:Congé de l'armistice
DESCRIPTION:Jour férié. Les élèves restent chez eux.
URL:https://secondaire.saint-boni.be/event/conge-de-larmistice/
CATEGORIES:Events - 1res,Events - 2es,Events - 3es,Events - 4es,Events - 5es,Events - 6es,Events Institut
END:VEVENT
BEGIN:VEVENT
DTSTART;TZID=Europe/Brussels:20221110T163000
DTEND;TZID=Europe/Brussels:20221110T193000
DTSTAMP:20260425T052429
CREATED:20220817T115633Z
LAST-MODIFIED:20220817T115633Z
UID:2460-1668097800-1668108600@secondaire.saint-boni.be
SUMMARY:Rencontres parents-professeurs
DESCRIPTION:Attention ! La dernière heure de cours de ce jour-là est suspendue pour permettre la préparation des rencontres. Les cours termineront donc à 14h55 au lieu de 15h45.
URL:https://secondaire.saint-boni.be/event/rencontres-parents-professeurs-4/
CATEGORIES:Events - 1res,Events - 2es,Events - 3es,Events - 4es,Events - 5es,Events - 6es,Events Institut
END:VEVENT
BEGIN:VEVENT
DTSTART;VALUE=DATE:20221022
DTEND;VALUE=DATE:20221107
DTSTAMP:20260425T052429
CREATED:20220922T065034Z
LAST-MODIFIED:20220922T065034Z
UID:2587-1666396800-1667779199@secondaire.saint-boni.be
SUMMARY:Congé de Toussaint
DESCRIPTION:
URL:https://secondaire.saint-boni.be/event/conge-de-toussaint/
CATEGORIES:Events - 1res,Events - 2es,Events - 3es,Events - 4es,Events - 5es,Events - 6es,Events Institut
END:VEVENT
BEGIN:VEVENT
DTSTART;TZID=Europe/Brussels:20221021T083000
DTEND;TZID=Europe/Brussels:20221021T154500
DTSTAMP:20260425T052429
CREATED:20220817T113240Z
LAST-MODIFIED:20220817T113240Z
UID:2456-1666341000-1666367100@secondaire.saint-boni.be
SUMMARY:Bulletin (1-6)
DESCRIPTION:
URL:https://secondaire.saint-boni.be/event/bulletin-1-6/
CATEGORIES:Events - 1res,Events - 2es,Events - 3es,Events - 4es,Events - 5es,Events - 6es,Events Institut
END:VEVENT
BEGIN:VEVENT
DTSTART;TZID=Europe/Brussels:20220927T083000
DTEND;TZID=Europe/Brussels:20220927T154500
DTSTAMP:20260425T052429
CREATED:20220620T131218Z
LAST-MODIFIED:20220620T131218Z
UID:2336-1664267400-1664293500@secondaire.saint-boni.be
SUMMARY:Fête de la Communauté française
DESCRIPTION:Jour férié : Les élèves restent chez eux.
URL:https://secondaire.saint-boni.be/event/fete-de-la-communaute-francaise/
CATEGORIES:Events - 1res,Events - 2es,Events - 3es,Events - 4es,Events - 5es,Events - 6es,Events Institut
END:VEVENT
BEGIN:VEVENT
DTSTART;TZID=Europe/Brussels:20220926T083000
DTEND;TZID=Europe/Brussels:20220926T154500
DTSTAMP:20260425T052429
CREATED:20220620T131018Z
LAST-MODIFIED:20220620T131018Z
UID:2334-1664181000-1664207100@secondaire.saint-boni.be
SUMMARY:Journée pédagogique
DESCRIPTION:Les élèves restent chez eux.
URL:https://secondaire.saint-boni.be/event/journee-pedagogique-2/
CATEGORIES:Events - 1res,Events - 2es,Events - 3es,Events - 4es,Events - 5es,Events - 6es,Events Institut
END:VEVENT
BEGIN:VEVENT
DTSTART;TZID=Europe/Brussels:20220923T083000
DTEND;TZID=Europe/Brussels:20220923T154500
DTSTAMP:20260425T052429
CREATED:20220620T130934Z
LAST-MODIFIED:20220915T101539Z
UID:2332-1663921800-1663947900@secondaire.saint-boni.be
SUMMARY:Journée sportive
DESCRIPTION:Une journée sportive par année. Toutes les informations se trouvent > ICI <
URL:https://secondaire.saint-boni.be/event/journee-sportive-2/
CATEGORIES:Events - 1res,Events - 2es,Events - 3es,Events - 4es,Events - 5es,Events - 6es,Events Institut
END:VEVENT
BEGIN:VEVENT
DTSTART;TZID=Europe/Brussels:20220920T183000
DTEND;TZID=Europe/Brussels:20220920T210000
DTSTAMP:20260425T052429
CREATED:20220620T130836Z
LAST-MODIFIED:20220704T081958Z
UID:2330-1663698600-1663707600@secondaire.saint-boni.be
SUMMARY:Assemblée des Parents + RDV avec titulaires
DESCRIPTION:Informations suivront en temps utile.
URL:https://secondaire.saint-boni.be/event/assemblee-des-parents-rdv-avec-titulaires/
CATEGORIES:Events - 1res,Events - 2es,Events - 3es,Events - 4es,Events - 5es,Events - 6es,Events Institut
END:VEVENT
BEGIN:VEVENT
DTSTART;TZID=Europe/Brussels:20220913T083000
DTEND;TZID=Europe/Brussels:20220913T154500
DTSTAMP:20260425T052429
CREATED:20220620T130719Z
LAST-MODIFIED:20220620T130719Z
UID:2328-1663057800-1663083900@secondaire.saint-boni.be
SUMMARY:Journée des premières
DESCRIPTION:Informations arriveront en temps utile.
URL:https://secondaire.saint-boni.be/event/journee-des-premieres-2/
CATEGORIES:Events - 1res
END:VEVENT
BEGIN:VEVENT
DTSTART;TZID=Europe/Brussels:20220908T083000
DTEND;TZID=Europe/Brussels:20220908T154500
DTSTAMP:20260425T052429
CREATED:20220620T130559Z
LAST-MODIFIED:20220620T130559Z
UID:2326-1662625800-1662651900@secondaire.saint-boni.be
SUMMARY:Photos individuelles / de classe (jour 2)
DESCRIPTION:
URL:https://secondaire.saint-boni.be/event/photos-individuelles-de-classe-jour-2/
CATEGORIES:Events - 1res,Events - 2es,Events - 3es,Events - 4es,Events - 5es,Events - 6es,Events Institut
END:VEVENT
BEGIN:VEVENT
DTSTART;TZID=Europe/Brussels:20220907T083000
DTEND;TZID=Europe/Brussels:20220907T120000
DTSTAMP:20260425T052429
CREATED:20220620T130505Z
LAST-MODIFIED:20220620T130505Z
UID:2324-1662539400-1662552000@secondaire.saint-boni.be
SUMMARY:Photos individuelles / de classe (jour 1)
DESCRIPTION:
URL:https://secondaire.saint-boni.be/event/photos-individuelles-de-classe-jour-1/
CATEGORIES:Events - 1res,Events - 2es,Events - 3es,Events - 4es,Events - 5es,Events - 6es,Events Institut
END:VEVENT
BEGIN:VEVENT
DTSTART;TZID=Europe/Brussels:20220830T150000
DTEND;TZID=Europe/Brussels:20220830T154500
DTSTAMP:20260425T052429
CREATED:20220620T130204Z
LAST-MODIFIED:20220620T130204Z
UID:2320-1661871600-1661874300@secondaire.saint-boni.be
SUMMARY:Rentrée des rhétos
DESCRIPTION:Les informations détaillées seront communiquées aux parents à partir du 20 août.
URL:https://secondaire.saint-boni.be/event/rentree-des-rhetos/
CATEGORIES:Events - 6es
END:VEVENT
BEGIN:VEVENT
DTSTART;TZID=Europe/Brussels:20220830T143000
DTEND;TZID=Europe/Brussels:20220830T154500
DTSTAMP:20260425T052429
CREATED:20220620T130117Z
LAST-MODIFIED:20220620T130117Z
UID:2318-1661869800-1661874300@secondaire.saint-boni.be
SUMMARY:Rentrée des 5e années
DESCRIPTION:Les informations détaillées seront communiquées aux parents à partir du 20 août.
URL:https://secondaire.saint-boni.be/event/rentree-des-5e-annees/
CATEGORIES:Events - 5es
END:VEVENT
BEGIN:VEVENT
DTSTART;TZID=Europe/Brussels:20220830T140000
DTEND;TZID=Europe/Brussels:20220830T154500
DTSTAMP:20260425T052429
CREATED:20220620T125744Z
LAST-MODIFIED:20220620T125812Z
UID:2316-1661868000-1661874300@secondaire.saint-boni.be
SUMMARY:Rentrée des 4e années
DESCRIPTION:Les informations détaillées seront communiquées aux parents à partir du 20 août.
URL:https://secondaire.saint-boni.be/event/rentree-des-4e-annees/
CATEGORIES:Events - 4es
END:VEVENT
BEGIN:VEVENT
DTSTART;TZID=Europe/Brussels:20220830T133000
DTEND;TZID=Europe/Brussels:20220830T154500
DTSTAMP:20260425T052429
CREATED:20220620T130310Z
LAST-MODIFIED:20220620T130310Z
UID:2322-1661866200-1661874300@secondaire.saint-boni.be
SUMMARY:Titulariat - 1re et 2e années
DESCRIPTION:
URL:https://secondaire.saint-boni.be/event/titulariat-1re-et-2e-annees/
CATEGORIES:Events - 1res,Events - 2es
END:VEVENT
BEGIN:VEVENT
DTSTART;TZID=Europe/Brussels:20220830T133000
DTEND;TZID=Europe/Brussels:20220830T154500
DTSTAMP:20260425T052429
CREATED:20220620T125608Z
LAST-MODIFIED:20220620T125849Z
UID:2314-1661866200-1661874300@secondaire.saint-boni.be
SUMMARY:Rentrée des 3e années
DESCRIPTION:Les informations détaillées seront communiquées aux parents à partir du 20 août.
URL:https://secondaire.saint-boni.be/event/rentree-des-3e-annees/
CATEGORIES:Events - 3es
END:VEVENT
BEGIN:VEVENT
DTSTART;TZID=Europe/Brussels:20220829T121500
DTEND;TZID=Europe/Brussels:20220829T131500
DTSTAMP:20260425T052429
CREATED:20220620T122105Z
LAST-MODIFIED:20220620T122105Z
UID:2308-1661775300-1661778900@secondaire.saint-boni.be
SUMMARY:Nouveaux élèves - Rencontre avec Mme la Préfète
DESCRIPTION:Mme la Préfète rencontre tous les nouveaux élèves (de 2e à 6e année) pour leur présenter Saint-Boni et répondre à leurs questions. Cette rencontre est obligatoire.
URL:https://secondaire.saint-boni.be/event/nouveaux-eleves-rencontre-avec-mme-la-prefete/
CATEGORIES:Events Institut
END:VEVENT
BEGIN:VEVENT
DTSTART;TZID=Europe/Brussels:20220829T100000
DTEND;TZID=Europe/Brussels:20220829T120000
DTSTAMP:20260425T052429
CREATED:20220620T121524Z
LAST-MODIFIED:20220620T121524Z
UID:2305-1661767200-1661774400@secondaire.saint-boni.be
SUMMARY:Rentrée des élèves de 2e
DESCRIPTION:Les informations plus précises seront envoyées aux parents à partir du 20 août.
URL:https://secondaire.saint-boni.be/event/rentree-des-eleves-de-2e/
CATEGORIES:Events - 2es
END:VEVENT
BEGIN:VEVENT
DTSTART;TZID=Europe/Brussels:20220829T090000
DTEND;TZID=Europe/Brussels:20220829T120000
DTSTAMP:20260425T052429
CREATED:20220620T121326Z
LAST-MODIFIED:20220620T124927Z
UID:2303-1661763600-1661774400@secondaire.saint-boni.be
SUMMARY:Rentrée des élèves de 1re
DESCRIPTION:Les informations plus précises seront envoyées aux parents à partir du 20 août.
URL:https://secondaire.saint-boni.be/event/rentree-des-eleves-de-1re/
CATEGORIES:Events - 1res
END:VEVENT
END:VCALENDAR