BEGIN:VCALENDAR
VERSION:2.0
PRODID:-//Institut Saint-Boniface Parnasse - ECPv6.15.20//NONSGML v1.0//EN
CALSCALE:GREGORIAN
METHOD:PUBLISH
X-ORIGINAL-URL:https://secondaire.saint-boni.be
X-WR-CALDESC:Évènements pour Institut Saint-Boniface Parnasse
REFRESH-INTERVAL;VALUE=DURATION:PT1H
X-Robots-Tag:noindex
X-PUBLISHED-TTL:PT1H
BEGIN:VTIMEZONE
TZID:Europe/Brussels
BEGIN:DAYLIGHT
TZOFFSETFROM:+0100
TZOFFSETTO:+0200
TZNAME:CEST
DTSTART:20230326T010000
END:DAYLIGHT
BEGIN:STANDARD
TZOFFSETFROM:+0200
TZOFFSETTO:+0100
TZNAME:CET
DTSTART:20231029T010000
END:STANDARD
BEGIN:DAYLIGHT
TZOFFSETFROM:+0100
TZOFFSETTO:+0200
TZNAME:CEST
DTSTART:20240331T010000
END:DAYLIGHT
BEGIN:STANDARD
TZOFFSETFROM:+0200
TZOFFSETTO:+0100
TZNAME:CET
DTSTART:20241027T010000
END:STANDARD
BEGIN:DAYLIGHT
TZOFFSETFROM:+0100
TZOFFSETTO:+0200
TZNAME:CEST
DTSTART:20250330T010000
END:DAYLIGHT
BEGIN:STANDARD
TZOFFSETFROM:+0200
TZOFFSETTO:+0100
TZNAME:CET
DTSTART:20251026T010000
END:STANDARD
END:VTIMEZONE
BEGIN:VEVENT
DTSTART;VALUE=DATE:20240701
DTEND;VALUE=DATE:20240704
DTSTAMP:20260426T032451
CREATED:20240214T083858Z
LAST-MODIFIED:20240214T083934Z
UID:3404-1719792000-1720051199@secondaire.saint-boni.be
SUMMARY:Semaine de conseils de classe
DESCRIPTION:Les professeurs seront en conseils de classe. Les élèves ne sont pas attendus à l’Institut ces jours-là (sauf indication contraire venant de la Préfecture\, pour des examens à représenter par exemple).
URL:https://secondaire.saint-boni.be/event/semaine-de-conseils-de-classe-3/
CATEGORIES:Events Institut
END:VEVENT
BEGIN:VEVENT
DTSTART;TZID=Europe/Brussels:20240703T190000
DTEND;TZID=Europe/Brussels:20240703T203000
DTSTAMP:20260426T032451
CREATED:20230918T095304Z
LAST-MODIFIED:20230918T095304Z
UID:3165-1720033200-1720038600@secondaire.saint-boni.be
SUMMARY:Proclamation des rhétos
DESCRIPTION:Proclamation des élèves de rhéto ayant réussi en 1re session.
URL:https://secondaire.saint-boni.be/event/proclamation-des-rhetos-3/
CATEGORIES:Events - 6es
END:VEVENT
BEGIN:VEVENT
DTSTART;TZID=Europe/Brussels:20240704T083000
DTEND;TZID=Europe/Brussels:20240704T120000
DTSTAMP:20260426T032451
CREATED:20230918T095400Z
LAST-MODIFIED:20230918T095400Z
UID:3167-1720081800-1720094400@secondaire.saint-boni.be
SUMMARY:Remise des bulletins (1-5)
DESCRIPTION:
URL:https://secondaire.saint-boni.be/event/remise-des-bulletins-1-5-3/
CATEGORIES:Events - 1res,Events - 2es,Events - 3es,Events - 4es,Events - 5es,Events Institut
END:VEVENT
BEGIN:VEVENT
DTSTART;TZID=Europe/Brussels:20240704T150000
DTEND;TZID=Europe/Brussels:20240704T183000
DTSTAMP:20260426T032451
CREATED:20230918T095515Z
LAST-MODIFIED:20230918T095533Z
UID:3169-1720105200-1720117800@secondaire.saint-boni.be
SUMMARY:Rencontres parents-professeurs
DESCRIPTION:Ces rencontres se feront sur prise de rendez-vous préalable.\nLes informations seront communiquées en temps utile.
URL:https://secondaire.saint-boni.be/event/rencontres-parents-professeurs-12/
CATEGORIES:Events - 1res,Events - 2es,Events - 3es,Events - 4es,Events - 5es,Events - 6es,Events Institut
END:VEVENT
BEGIN:VEVENT
DTSTART;TZID=Europe/Brussels:20240705T090000
DTEND;TZID=Europe/Brussels:20240705T120000
DTSTAMP:20260426T032451
CREATED:20230918T095637Z
LAST-MODIFIED:20230918T095637Z
UID:3171-1720170000-1720180800@secondaire.saint-boni.be
SUMMARY:Rencontres parents-professeurs
DESCRIPTION:Ces rencontres se feront sur prise de rendez-vous préalable.\nLes informations seront communiquées en temps utile.
URL:https://secondaire.saint-boni.be/event/rencontres-parents-professeurs-13/
CATEGORIES:Events - 1res,Events - 2es,Events - 3es,Events - 4es,Events - 5es,Events - 6es,Events Institut
END:VEVENT
BEGIN:VEVENT
DTSTART;VALUE=DATE:20240706
DTEND;VALUE=DATE:20240826
DTSTAMP:20260426T032451
CREATED:20230918T095833Z
LAST-MODIFIED:20230918T095833Z
UID:3173-1720224000-1724630399@secondaire.saint-boni.be
SUMMARY:Congé d'été
DESCRIPTION:
URL:https://secondaire.saint-boni.be/event/conge-dete/
CATEGORIES:Events Institut
END:VEVENT
END:VCALENDAR