BEGIN:VCALENDAR
VERSION:2.0
PRODID:-//Institut Saint-Boniface Parnasse - ECPv6.15.20//NONSGML v1.0//EN
CALSCALE:GREGORIAN
METHOD:PUBLISH
X-WR-CALNAME:Institut Saint-Boniface Parnasse
X-ORIGINAL-URL:https://secondaire.saint-boni.be
X-WR-CALDESC:Évènements pour Institut Saint-Boniface Parnasse
REFRESH-INTERVAL;VALUE=DURATION:PT1H
X-Robots-Tag:noindex
X-PUBLISHED-TTL:PT1H
BEGIN:VTIMEZONE
TZID:Europe/Brussels
BEGIN:DAYLIGHT
TZOFFSETFROM:+0100
TZOFFSETTO:+0200
TZNAME:CEST
DTSTART:20230326T010000
END:DAYLIGHT
BEGIN:STANDARD
TZOFFSETFROM:+0200
TZOFFSETTO:+0100
TZNAME:CET
DTSTART:20231029T010000
END:STANDARD
BEGIN:DAYLIGHT
TZOFFSETFROM:+0100
TZOFFSETTO:+0200
TZNAME:CEST
DTSTART:20240331T010000
END:DAYLIGHT
BEGIN:STANDARD
TZOFFSETFROM:+0200
TZOFFSETTO:+0100
TZNAME:CET
DTSTART:20241027T010000
END:STANDARD
BEGIN:DAYLIGHT
TZOFFSETFROM:+0100
TZOFFSETTO:+0200
TZNAME:CEST
DTSTART:20250330T010000
END:DAYLIGHT
BEGIN:STANDARD
TZOFFSETFROM:+0200
TZOFFSETTO:+0100
TZNAME:CET
DTSTART:20251026T010000
END:STANDARD
END:VTIMEZONE
BEGIN:VEVENT
DTSTART;VALUE=DATE:20240706
DTEND;VALUE=DATE:20240826
DTSTAMP:20260426T013238
CREATED:20230918T095833Z
LAST-MODIFIED:20230918T095833Z
UID:3173-1720224000-1724630399@secondaire.saint-boni.be
SUMMARY:Congé d'été
DESCRIPTION:
URL:https://secondaire.saint-boni.be/event/conge-dete/
CATEGORIES:Events Institut
END:VEVENT
BEGIN:VEVENT
DTSTART;TZID=Europe/Brussels:20240826T103000
DTEND;TZID=Europe/Brussels:20240826T130000
DTSTAMP:20260426T013238
CREATED:20240705T140130Z
LAST-MODIFIED:20240705T140130Z
UID:3528-1724668200-1724677200@secondaire.saint-boni.be
SUMMARY:Examens de passage (séance 1)
DESCRIPTION:
URL:https://secondaire.saint-boni.be/event/examens-de-passage-seance-1/
CATEGORIES:Events - 1res,Events - 2es,Events - 3es,Events - 4es,Events - 5es,Events - 6es,Events Institut
END:VEVENT
BEGIN:VEVENT
DTSTART;TZID=Europe/Brussels:20240826T133000
DTEND;TZID=Europe/Brussels:20240826T160000
DTSTAMP:20260426T013238
CREATED:20240705T140217Z
LAST-MODIFIED:20240705T140217Z
UID:3530-1724679000-1724688000@secondaire.saint-boni.be
SUMMARY:Examens de passage (séance 2)
DESCRIPTION:
URL:https://secondaire.saint-boni.be/event/examens-de-passage-seance-2/
CATEGORIES:Events - 3es,Events - 4es,Events - 5es,Events - 6es,Events Institut
END:VEVENT
BEGIN:VEVENT
DTSTART;TZID=Europe/Brussels:20240827T090000
DTEND;TZID=Europe/Brussels:20240827T120000
DTSTAMP:20260426T013238
CREATED:20240705T140342Z
LAST-MODIFIED:20240705T140342Z
UID:3534-1724749200-1724760000@secondaire.saint-boni.be
SUMMARY:Rentrée des 1res
DESCRIPTION:
URL:https://secondaire.saint-boni.be/event/rentree-des-1res/
CATEGORIES:Events - 1res
END:VEVENT
BEGIN:VEVENT
DTSTART;TZID=Europe/Brussels:20240827T093000
DTEND;TZID=Europe/Brussels:20240827T120000
DTSTAMP:20260426T013238
CREATED:20240705T140255Z
LAST-MODIFIED:20240819T124947Z
UID:3532-1724751000-1724760000@secondaire.saint-boni.be
SUMMARY:Examens de passage (séance 3)
DESCRIPTION:
URL:https://secondaire.saint-boni.be/event/examens-de-passage-seance-3/
CATEGORIES:Events - 3es,Events - 4es,Events - 5es,Events - 6es,Events Institut
END:VEVENT
BEGIN:VEVENT
DTSTART;TZID=Europe/Brussels:20240827T100000
DTEND;TZID=Europe/Brussels:20240827T120000
DTSTAMP:20260426T013238
CREATED:20240705T140430Z
LAST-MODIFIED:20240705T140430Z
UID:3536-1724752800-1724760000@secondaire.saint-boni.be
SUMMARY:Rentrée des 2e
DESCRIPTION:
URL:https://secondaire.saint-boni.be/event/rentree-des-2e-2/
CATEGORIES:Events - 2es
END:VEVENT
BEGIN:VEVENT
DTSTART;TZID=Europe/Brussels:20240827T130000
DTEND;TZID=Europe/Brussels:20240827T180000
DTSTAMP:20260426T013238
CREATED:20240705T140525Z
LAST-MODIFIED:20240705T140525Z
UID:3538-1724763600-1724781600@secondaire.saint-boni.be
SUMMARY:Conseils de classe (2e session)
DESCRIPTION:
URL:https://secondaire.saint-boni.be/event/conseils-de-classe-2e-session-2/
CATEGORIES:Events - 3es,Events - 4es,Events - 5es,Events - 6es,Events Institut
END:VEVENT
BEGIN:VEVENT
DTSTART;TZID=Europe/Brussels:20240827T190000
DTEND;TZID=Europe/Brussels:20240827T210000
DTSTAMP:20260426T013238
CREATED:20240705T140603Z
LAST-MODIFIED:20240823T151108Z
UID:3540-1724785200-1724792400@secondaire.saint-boni.be
SUMMARY:Proclamation des rhétos (2e session)
DESCRIPTION:
URL:https://secondaire.saint-boni.be/event/proclamation-des-rhetos-2e-session-3/
CATEGORIES:Events - 6es
END:VEVENT
BEGIN:VEVENT
DTSTART;TZID=Europe/Brussels:20240828T083000
DTEND;TZID=Europe/Brussels:20240828T111500
DTSTAMP:20260426T013238
CREATED:20240705T140717Z
LAST-MODIFIED:20240705T140717Z
UID:3542-1724833800-1724843700@secondaire.saint-boni.be
SUMMARY:Cours 1re année
DESCRIPTION:
URL:https://secondaire.saint-boni.be/event/cours-1re-annee/
CATEGORIES:Events - 1res
END:VEVENT
BEGIN:VEVENT
DTSTART;TZID=Europe/Brussels:20240828T083000
DTEND;TZID=Europe/Brussels:20240828T111500
DTSTAMP:20260426T013238
CREATED:20240705T140853Z
LAST-MODIFIED:20240705T140853Z
UID:3544-1724833800-1724843700@secondaire.saint-boni.be
SUMMARY:Cours 2e année
DESCRIPTION:
URL:https://secondaire.saint-boni.be/event/cours-2e-annee/
CATEGORIES:Events - 2es
END:VEVENT
BEGIN:VEVENT
DTSTART;TZID=Europe/Brussels:20240828T083000
DTEND;TZID=Europe/Brussels:20240828T111500
DTSTAMP:20260426T013238
CREATED:20240705T140938Z
LAST-MODIFIED:20240705T140938Z
UID:3546-1724833800-1724843700@secondaire.saint-boni.be
SUMMARY:Rentrée des 3e
DESCRIPTION:
URL:https://secondaire.saint-boni.be/event/rentree-des-3e-2/
CATEGORIES:Events - 3es
END:VEVENT
BEGIN:VEVENT
DTSTART;TZID=Europe/Brussels:20240828T090000
DTEND;TZID=Europe/Brussels:20240828T111500
DTSTAMP:20260426T013238
CREATED:20240705T141008Z
LAST-MODIFIED:20240705T141008Z
UID:3548-1724835600-1724843700@secondaire.saint-boni.be
SUMMARY:Rentrée des 4e
DESCRIPTION:
URL:https://secondaire.saint-boni.be/event/rentree-des-4e-2/
CATEGORIES:Events - 4es
END:VEVENT
BEGIN:VEVENT
DTSTART;TZID=Europe/Brussels:20240828T093000
DTEND;TZID=Europe/Brussels:20240828T111500
DTSTAMP:20260426T013238
CREATED:20240705T141049Z
LAST-MODIFIED:20240705T141049Z
UID:3550-1724837400-1724843700@secondaire.saint-boni.be
SUMMARY:Rentrée des 5e
DESCRIPTION:
URL:https://secondaire.saint-boni.be/event/rentree-des-5e-2/
CATEGORIES:Events - 5es
END:VEVENT
BEGIN:VEVENT
DTSTART;TZID=Europe/Brussels:20240828T100000
DTEND;TZID=Europe/Brussels:20240828T120000
DTSTAMP:20260426T013238
CREATED:20240705T141120Z
LAST-MODIFIED:20240705T141120Z
UID:3552-1724839200-1724846400@secondaire.saint-boni.be
SUMMARY:Rentrée des rhétos
DESCRIPTION:
URL:https://secondaire.saint-boni.be/event/rentree-des-rhetos-2/
CATEGORIES:Events - 6es
END:VEVENT
BEGIN:VEVENT
DTSTART;TZID=Europe/Brussels:20240829T083000
DTEND;TZID=Europe/Brussels:20240829T154500
DTSTAMP:20260426T013238
CREATED:20240705T141220Z
LAST-MODIFIED:20240705T141220Z
UID:3554-1724920200-1724946300@secondaire.saint-boni.be
SUMMARY:Reprise des cours pour tous
DESCRIPTION:
URL:https://secondaire.saint-boni.be/event/reprise-des-cours-pour-tous/
CATEGORIES:Events - 1res,Events - 2es,Events - 3es,Events - 4es,Events - 5es,Events - 6es,Events Institut
END:VEVENT
END:VCALENDAR