BEGIN:VCALENDAR
VERSION:2.0
PRODID:-//Institut Saint-Boniface Parnasse - ECPv6.15.20//NONSGML v1.0//EN
CALSCALE:GREGORIAN
METHOD:PUBLISH
X-WR-CALNAME:Institut Saint-Boniface Parnasse
X-ORIGINAL-URL:https://secondaire.saint-boni.be
X-WR-CALDESC:Évènements pour Institut Saint-Boniface Parnasse
REFRESH-INTERVAL;VALUE=DURATION:PT1H
X-Robots-Tag:noindex
X-PUBLISHED-TTL:PT1H
BEGIN:VTIMEZONE
TZID:Europe/Brussels
BEGIN:DAYLIGHT
TZOFFSETFROM:+0100
TZOFFSETTO:+0200
TZNAME:CEST
DTSTART:20230326T010000
END:DAYLIGHT
BEGIN:STANDARD
TZOFFSETFROM:+0200
TZOFFSETTO:+0100
TZNAME:CET
DTSTART:20231029T010000
END:STANDARD
BEGIN:DAYLIGHT
TZOFFSETFROM:+0100
TZOFFSETTO:+0200
TZNAME:CEST
DTSTART:20240331T010000
END:DAYLIGHT
BEGIN:STANDARD
TZOFFSETFROM:+0200
TZOFFSETTO:+0100
TZNAME:CET
DTSTART:20241027T010000
END:STANDARD
BEGIN:DAYLIGHT
TZOFFSETFROM:+0100
TZOFFSETTO:+0200
TZNAME:CEST
DTSTART:20250330T010000
END:DAYLIGHT
BEGIN:STANDARD
TZOFFSETFROM:+0200
TZOFFSETTO:+0100
TZNAME:CET
DTSTART:20251026T010000
END:STANDARD
END:VTIMEZONE
BEGIN:VEVENT
DTSTART;VALUE=DATE:20240904
DTEND;VALUE=DATE:20240906
DTSTAMP:20260426T000437
CREATED:20240705T141312Z
LAST-MODIFIED:20240705T141312Z
UID:3556-1725408000-1725580799@secondaire.saint-boni.be
SUMMARY:Photos individuelles / de classe
DESCRIPTION:
URL:https://secondaire.saint-boni.be/event/photos-individuelles-de-classe/
CATEGORIES:Events - 1res,Events - 2es,Events - 3es,Events - 4es,Events - 5es,Events - 6es,Events Institut
END:VEVENT
BEGIN:VEVENT
DTSTART;TZID=Europe/Brussels:20240919T083000
DTEND;TZID=Europe/Brussels:20240919T160000
DTSTAMP:20260426T000437
CREATED:20240904T100022Z
LAST-MODIFIED:20240904T100200Z
UID:3572-1726734600-1726761600@secondaire.saint-boni.be
SUMMARY:Réthos au CIO (Centre d'information sur l'Orientation)
DESCRIPTION:
URL:https://secondaire.saint-boni.be/event/rethos-au-cio-centre-dinformation-sur-lorientation/
CATEGORIES:Events - 6es
END:VEVENT
BEGIN:VEVENT
DTSTART;TZID=Europe/Brussels:20240919T183000
DTEND;TZID=Europe/Brussels:20240919T203000
DTSTAMP:20260426T000437
CREATED:20240904T100147Z
LAST-MODIFIED:20240904T100147Z
UID:3574-1726770600-1726777800@secondaire.saint-boni.be
SUMMARY:AG des parents + Réunion avec le titulaire de classe
DESCRIPTION:
URL:https://secondaire.saint-boni.be/event/ag-des-parents-reunion-avec-le-titulaire-de-classe/
CATEGORIES:Events - 1res,Events - 2es,Events - 3es,Events - 4es,Events - 5es,Events - 6es,Events Institut
END:VEVENT
BEGIN:VEVENT
DTSTART;TZID=Europe/Brussels:20240926T083000
DTEND;TZID=Europe/Brussels:20240926T160000
DTSTAMP:20260426T000437
CREATED:20240904T100315Z
LAST-MODIFIED:20240904T100315Z
UID:3576-1727339400-1727366400@secondaire.saint-boni.be
SUMMARY:Journée sportive
DESCRIPTION:Les informations suivront par mail.
URL:https://secondaire.saint-boni.be/event/journee-sportive-3/
CATEGORIES:Events - 1res,Events - 2es,Events - 3es,Events - 4es,Events - 5es,Events - 6es,Events Institut
END:VEVENT
BEGIN:VEVENT
DTSTART;VALUE=DATE:20240927
DTEND;VALUE=DATE:20240928
DTSTAMP:20260426T000437
CREATED:20240904T100420Z
LAST-MODIFIED:20240904T100420Z
UID:3578-1727395200-1727481599@secondaire.saint-boni.be
SUMMARY:Fête de la Communauté française
DESCRIPTION:Jour férié. Les élèves ne sont pas attendus à l’Institut ce jour-là.
URL:https://secondaire.saint-boni.be/event/fete-de-la-communaute-francaise-2/
CATEGORIES:Events - 1res,Events - 2es,Events - 3es,Events - 4es,Events - 5es,Events - 6es,Events Institut
END:VEVENT
END:VCALENDAR