BEGIN:VCALENDAR
VERSION:2.0
PRODID:-//Institut Saint-Boniface Parnasse - ECPv6.15.20//NONSGML v1.0//EN
CALSCALE:GREGORIAN
METHOD:PUBLISH
X-WR-CALNAME:Institut Saint-Boniface Parnasse
X-ORIGINAL-URL:https://secondaire.saint-boni.be
X-WR-CALDESC:Évènements pour Institut Saint-Boniface Parnasse
REFRESH-INTERVAL;VALUE=DURATION:PT1H
X-Robots-Tag:noindex
X-PUBLISHED-TTL:PT1H
BEGIN:VTIMEZONE
TZID:Europe/Brussels
BEGIN:DAYLIGHT
TZOFFSETFROM:+0100
TZOFFSETTO:+0200
TZNAME:CEST
DTSTART:20230326T010000
END:DAYLIGHT
BEGIN:STANDARD
TZOFFSETFROM:+0200
TZOFFSETTO:+0100
TZNAME:CET
DTSTART:20231029T010000
END:STANDARD
BEGIN:DAYLIGHT
TZOFFSETFROM:+0100
TZOFFSETTO:+0200
TZNAME:CEST
DTSTART:20240331T010000
END:DAYLIGHT
BEGIN:STANDARD
TZOFFSETFROM:+0200
TZOFFSETTO:+0100
TZNAME:CET
DTSTART:20241027T010000
END:STANDARD
BEGIN:DAYLIGHT
TZOFFSETFROM:+0100
TZOFFSETTO:+0200
TZNAME:CEST
DTSTART:20250330T010000
END:DAYLIGHT
BEGIN:STANDARD
TZOFFSETFROM:+0200
TZOFFSETTO:+0100
TZNAME:CET
DTSTART:20251026T010000
END:STANDARD
END:VTIMEZONE
BEGIN:VEVENT
DTSTART;VALUE=DATE:20241017
DTEND;VALUE=DATE:20241018
DTSTAMP:20260425T222648
CREATED:20240904T100921Z
LAST-MODIFIED:20240904T100921Z
UID:3580-1729123200-1729209599@secondaire.saint-boni.be
SUMMARY:Bulletin (1re à 6e)
DESCRIPTION:
URL:https://secondaire.saint-boni.be/event/bulletin-1re-a-6e/
CATEGORIES:Events - 1res,Events - 2es,Events - 3es,Events - 4es,Events - 5es,Events - 6es,Events Institut
END:VEVENT
BEGIN:VEVENT
DTSTART;TZID=Europe/Brussels:20241018T163000
DTEND;TZID=Europe/Brussels:20241018T190000
DTSTAMP:20260425T222648
CREATED:20240904T101030Z
LAST-MODIFIED:20240904T101030Z
UID:3582-1729269000-1729278000@secondaire.saint-boni.be
SUMMARY:Rencontres parents-professeurs (sans rdv)
DESCRIPTION:Informations suivront par mail.
URL:https://secondaire.saint-boni.be/event/rencontres-parents-professeurs-sans-rdv/
CATEGORIES:Events - 1res,Events - 2es,Events - 3es,Events - 4es,Events - 5es,Events - 6es,Events Institut
END:VEVENT
BEGIN:VEVENT
DTSTART;VALUE=DATE:20241019
DTEND;VALUE=DATE:20241104
DTSTAMP:20260425T222648
CREATED:20240904T101118Z
LAST-MODIFIED:20240904T101118Z
UID:3584-1729296000-1730678399@secondaire.saint-boni.be
SUMMARY:Congé de Toussaint
DESCRIPTION:
URL:https://secondaire.saint-boni.be/event/conge-de-toussaint-3/
CATEGORIES:Events - 1res,Events - 2es,Events - 3es,Events - 4es,Events - 5es,Events - 6es,Events Institut
END:VEVENT
END:VCALENDAR