BEGIN:VCALENDAR
VERSION:2.0
PRODID:-//Institut Saint-Boniface Parnasse - ECPv6.15.20//NONSGML v1.0//EN
CALSCALE:GREGORIAN
METHOD:PUBLISH
X-ORIGINAL-URL:https://secondaire.saint-boni.be
X-WR-CALDESC:Évènements pour Institut Saint-Boniface Parnasse
REFRESH-INTERVAL;VALUE=DURATION:PT1H
X-Robots-Tag:noindex
X-PUBLISHED-TTL:PT1H
BEGIN:VTIMEZONE
TZID:Europe/Brussels
BEGIN:DAYLIGHT
TZOFFSETFROM:+0100
TZOFFSETTO:+0200
TZNAME:CEST
DTSTART:20230326T010000
END:DAYLIGHT
BEGIN:STANDARD
TZOFFSETFROM:+0200
TZOFFSETTO:+0100
TZNAME:CET
DTSTART:20231029T010000
END:STANDARD
BEGIN:DAYLIGHT
TZOFFSETFROM:+0100
TZOFFSETTO:+0200
TZNAME:CEST
DTSTART:20240331T010000
END:DAYLIGHT
BEGIN:STANDARD
TZOFFSETFROM:+0200
TZOFFSETTO:+0100
TZNAME:CET
DTSTART:20241027T010000
END:STANDARD
BEGIN:DAYLIGHT
TZOFFSETFROM:+0100
TZOFFSETTO:+0200
TZNAME:CEST
DTSTART:20250330T010000
END:DAYLIGHT
BEGIN:STANDARD
TZOFFSETFROM:+0200
TZOFFSETTO:+0100
TZNAME:CET
DTSTART:20251026T010000
END:STANDARD
BEGIN:DAYLIGHT
TZOFFSETFROM:+0100
TZOFFSETTO:+0200
TZNAME:CEST
DTSTART:20260329T010000
END:DAYLIGHT
BEGIN:STANDARD
TZOFFSETFROM:+0200
TZOFFSETTO:+0100
TZNAME:CET
DTSTART:20261025T010000
END:STANDARD
END:VTIMEZONE
BEGIN:VEVENT
DTSTART;TZID=Europe/Brussels:20241202T083000
DTEND;TZID=Europe/Brussels:20241202T154500
DTSTAMP:20260425T191117
CREATED:20240904T101710Z
LAST-MODIFIED:20240904T101710Z
UID:3594-1733128200-1733154300@secondaire.saint-boni.be
SUMMARY:Examen - 3e (+ cours aprem)
DESCRIPTION:
URL:https://secondaire.saint-boni.be/event/examen-3e-cours-aprem/
CATEGORIES:Events - 3es
END:VEVENT
BEGIN:VEVENT
DTSTART;TZID=Europe/Brussels:20241202T083000
DTEND;TZID=Europe/Brussels:20241202T154500
DTSTAMP:20260425T191117
CREATED:20240904T101743Z
LAST-MODIFIED:20240904T101743Z
UID:3596-1733128200-1733154300@secondaire.saint-boni.be
SUMMARY:Examen - 4e (+ cours aprem)
DESCRIPTION:
URL:https://secondaire.saint-boni.be/event/examen-4e-cours-aprem/
CATEGORIES:Events - 4es
END:VEVENT
BEGIN:VEVENT
DTSTART;TZID=Europe/Brussels:20241202T083000
DTEND;TZID=Europe/Brussels:20241202T154500
DTSTAMP:20260425T191117
CREATED:20240904T101811Z
LAST-MODIFIED:20240904T101811Z
UID:3598-1733128200-1733154300@secondaire.saint-boni.be
SUMMARY:Examen - 5e (+ cours aprem)
DESCRIPTION:
URL:https://secondaire.saint-boni.be/event/examen-5e-cours-aprem/
CATEGORIES:Events - 5es
END:VEVENT
BEGIN:VEVENT
DTSTART;VALUE=DATE:20241205
DTEND;VALUE=DATE:20241206
DTSTAMP:20260425T191117
CREATED:20240904T102104Z
LAST-MODIFIED:20240904T102104Z
UID:3606-1733356800-1733443199@secondaire.saint-boni.be
SUMMARY:Examen - 6e (+ cours aprem)
DESCRIPTION:
URL:https://secondaire.saint-boni.be/event/examen-6e-cours-aprem/
CATEGORIES:Events - 6es
END:VEVENT
BEGIN:VEVENT
DTSTART;VALUE=DATE:20241205
DTEND;VALUE=DATE:20241207
DTSTAMP:20260425T191117
CREATED:20240904T101911Z
LAST-MODIFIED:20240904T101911Z
UID:3600-1733356800-1733529599@secondaire.saint-boni.be
SUMMARY:Examens - 3e
DESCRIPTION:
URL:https://secondaire.saint-boni.be/event/examens-3e-3/
CATEGORIES:Events - 3es
END:VEVENT
BEGIN:VEVENT
DTSTART;VALUE=DATE:20241205
DTEND;VALUE=DATE:20241207
DTSTAMP:20260425T191117
CREATED:20240904T101944Z
LAST-MODIFIED:20240904T101944Z
UID:3602-1733356800-1733529599@secondaire.saint-boni.be
SUMMARY:Examens - 4e
DESCRIPTION:
URL:https://secondaire.saint-boni.be/event/examens-4e-3/
CATEGORIES:Events - 4es
END:VEVENT
BEGIN:VEVENT
DTSTART;VALUE=DATE:20241205
DTEND;VALUE=DATE:20241207
DTSTAMP:20260425T191117
CREATED:20240904T102013Z
LAST-MODIFIED:20240904T102013Z
UID:3604-1733356800-1733529599@secondaire.saint-boni.be
SUMMARY:Examens 5e
DESCRIPTION:
URL:https://secondaire.saint-boni.be/event/examens-5e-3/
CATEGORIES:Events - 5es
END:VEVENT
BEGIN:VEVENT
DTSTART;VALUE=DATE:20241209
DTEND;VALUE=DATE:20241214
DTSTAMP:20260425T191117
CREATED:20240904T102151Z
LAST-MODIFIED:20240904T102151Z
UID:3608-1733702400-1734134399@secondaire.saint-boni.be
SUMMARY:Semaine de révisions et d'activités - 1re
DESCRIPTION:
URL:https://secondaire.saint-boni.be/event/semaine-de-revisions-et-dactivites-1re/
CATEGORIES:Events - 1res
END:VEVENT
BEGIN:VEVENT
DTSTART;VALUE=DATE:20241209
DTEND;VALUE=DATE:20241214
DTSTAMP:20260425T191117
CREATED:20240904T102219Z
LAST-MODIFIED:20240904T102219Z
UID:3610-1733702400-1734134399@secondaire.saint-boni.be
SUMMARY:Examens - 2e
DESCRIPTION:
URL:https://secondaire.saint-boni.be/event/examens-2e-2/
CATEGORIES:Events - 2es
END:VEVENT
BEGIN:VEVENT
DTSTART;VALUE=DATE:20241209
DTEND;VALUE=DATE:20241214
DTSTAMP:20260425T191117
CREATED:20240904T102258Z
LAST-MODIFIED:20240904T102258Z
UID:3612-1733702400-1734134399@secondaire.saint-boni.be
SUMMARY:Examens - 3e
DESCRIPTION:
URL:https://secondaire.saint-boni.be/event/examens-3e-4/
CATEGORIES:Events - 3es
END:VEVENT
BEGIN:VEVENT
DTSTART;VALUE=DATE:20241209
DTEND;VALUE=DATE:20241214
DTSTAMP:20260425T191117
CREATED:20240904T102327Z
LAST-MODIFIED:20240904T102327Z
UID:3614-1733702400-1734134399@secondaire.saint-boni.be
SUMMARY:Examens - 4e
DESCRIPTION:
URL:https://secondaire.saint-boni.be/event/examens-4e-4/
CATEGORIES:Events - 4es
END:VEVENT
BEGIN:VEVENT
DTSTART;VALUE=DATE:20241209
DTEND;VALUE=DATE:20241214
DTSTAMP:20260425T191117
CREATED:20240904T102349Z
LAST-MODIFIED:20240904T102349Z
UID:3616-1733702400-1734134399@secondaire.saint-boni.be
SUMMARY:Examens - 5e
DESCRIPTION:
URL:https://secondaire.saint-boni.be/event/examens-5e-4/
CATEGORIES:Events - 5es
END:VEVENT
BEGIN:VEVENT
DTSTART;VALUE=DATE:20241209
DTEND;VALUE=DATE:20241214
DTSTAMP:20260425T191117
CREATED:20240904T102413Z
LAST-MODIFIED:20240904T102413Z
UID:3618-1733702400-1734134399@secondaire.saint-boni.be
SUMMARY:Examens - 6e
DESCRIPTION:
URL:https://secondaire.saint-boni.be/event/examens-6e-2/
CATEGORIES:Events - 6es
END:VEVENT
BEGIN:VEVENT
DTSTART;VALUE=DATE:20241216
DTEND;VALUE=DATE:20241220
DTSTAMP:20260425T191117
CREATED:20240904T102501Z
LAST-MODIFIED:20240904T102501Z
UID:3620-1734307200-1734652799@secondaire.saint-boni.be
SUMMARY:Conseils de classe
DESCRIPTION:
URL:https://secondaire.saint-boni.be/event/conseils-de-classe-3/
CATEGORIES:Events Institut
END:VEVENT
BEGIN:VEVENT
DTSTART;VALUE=DATE:20241220
DTEND;VALUE=DATE:20241221
DTSTAMP:20260425T191117
CREATED:20240904T102604Z
LAST-MODIFIED:20240904T102604Z
UID:3622-1734652800-1734739199@secondaire.saint-boni.be
SUMMARY:Bulletin (1re à 6e)
DESCRIPTION:Bulletin de Noël pour les élèves de 1-2-3-4-5-6e.
URL:https://secondaire.saint-boni.be/event/bulletin-1re-a-6e-2/
CATEGORIES:Events - 1res,Events - 2es,Events - 3es,Events - 4es,Events - 5es,Events - 6es,Events Institut
END:VEVENT
BEGIN:VEVENT
DTSTART;TZID=Europe/Brussels:20241220T150000
DTEND;TZID=Europe/Brussels:20241220T190000
DTSTAMP:20260425T191117
CREATED:20240904T102636Z
LAST-MODIFIED:20241115T064237Z
UID:3624-1734706800-1734721200@secondaire.saint-boni.be
SUMMARY:Rencontres parents-professeurs
DESCRIPTION:Rencontres parents-professeurs de fin de premier trimestre (sans rendez-vous).
URL:https://secondaire.saint-boni.be/event/rencontres-parents-professeurs-14/
CATEGORIES:Events - 1res,Events - 2es,Events - 3es,Events - 4es,Events - 5es,Events - 6es,Events Institut
END:VEVENT
BEGIN:VEVENT
DTSTART;VALUE=DATE:20241221
DTEND;VALUE=DATE:20250106
DTSTAMP:20260425T191117
CREATED:20240904T102751Z
LAST-MODIFIED:20240904T102751Z
UID:3626-1734739200-1736121599@secondaire.saint-boni.be
SUMMARY:Congé de Noël
DESCRIPTION:
URL:https://secondaire.saint-boni.be/event/conge-de-noel-4/
CATEGORIES:Events - 1res,Events - 2es,Events - 3es,Events - 4es,Events - 5es,Events - 6es,Events Institut
END:VEVENT
END:VCALENDAR