BEGIN:VCALENDAR
VERSION:2.0
PRODID:-//Institut Saint-Boniface Parnasse - ECPv6.15.20//NONSGML v1.0//EN
CALSCALE:GREGORIAN
METHOD:PUBLISH
X-ORIGINAL-URL:https://secondaire.saint-boni.be
X-WR-CALDESC:Évènements pour Institut Saint-Boniface Parnasse
REFRESH-INTERVAL;VALUE=DURATION:PT1H
X-Robots-Tag:noindex
X-PUBLISHED-TTL:PT1H
BEGIN:VTIMEZONE
TZID:Europe/Brussels
BEGIN:DAYLIGHT
TZOFFSETFROM:+0100
TZOFFSETTO:+0200
TZNAME:CEST
DTSTART:20230326T010000
END:DAYLIGHT
BEGIN:STANDARD
TZOFFSETFROM:+0200
TZOFFSETTO:+0100
TZNAME:CET
DTSTART:20231029T010000
END:STANDARD
BEGIN:DAYLIGHT
TZOFFSETFROM:+0100
TZOFFSETTO:+0200
TZNAME:CEST
DTSTART:20240331T010000
END:DAYLIGHT
BEGIN:STANDARD
TZOFFSETFROM:+0200
TZOFFSETTO:+0100
TZNAME:CET
DTSTART:20241027T010000
END:STANDARD
BEGIN:DAYLIGHT
TZOFFSETFROM:+0100
TZOFFSETTO:+0200
TZNAME:CEST
DTSTART:20250330T010000
END:DAYLIGHT
BEGIN:STANDARD
TZOFFSETFROM:+0200
TZOFFSETTO:+0100
TZNAME:CET
DTSTART:20251026T010000
END:STANDARD
BEGIN:DAYLIGHT
TZOFFSETFROM:+0100
TZOFFSETTO:+0200
TZNAME:CEST
DTSTART:20260329T010000
END:DAYLIGHT
BEGIN:STANDARD
TZOFFSETFROM:+0200
TZOFFSETTO:+0100
TZNAME:CET
DTSTART:20261025T010000
END:STANDARD
END:VTIMEZONE
BEGIN:VEVENT
DTSTART;VALUE=DATE:20241221
DTEND;VALUE=DATE:20250106
DTSTAMP:20260425T173116
CREATED:20240904T102751Z
LAST-MODIFIED:20240904T102751Z
UID:3626-1734739200-1736121599@secondaire.saint-boni.be
SUMMARY:Congé de Noël
DESCRIPTION:
URL:https://secondaire.saint-boni.be/event/conge-de-noel-4/
CATEGORIES:Events - 1res,Events - 2es,Events - 3es,Events - 4es,Events - 5es,Events - 6es,Events Institut
END:VEVENT
BEGIN:VEVENT
DTSTART;TZID=Europe/Brussels:20250106T083000
DTEND;TZID=Europe/Brussels:20250106T154500
DTSTAMP:20260425T173116
CREATED:20240904T102905Z
LAST-MODIFIED:20241122T152733Z
UID:3628-1736152200-1736178300@secondaire.saint-boni.be
SUMMARY:Rentrée scolaire (08h30)
DESCRIPTION:
URL:https://secondaire.saint-boni.be/event/rentree-scolaire-2/
CATEGORIES:Events - 1res,Events - 2es,Events - 3es,Events - 4es,Events - 5es,Events - 6es,Events Institut
END:VEVENT
BEGIN:VEVENT
DTSTART;TZID=Europe/Brussels:20250122T140000
DTEND;TZID=Europe/Brussels:20250122T153000
DTSTAMP:20260425T173116
CREATED:20241129T144952Z
LAST-MODIFIED:20241129T144952Z
UID:3815-1737554400-1737559800@secondaire.saint-boni.be
SUMMARY:Présentation de l'Institut (inscriptions 1re 25-26)
DESCRIPTION:L’Institut organise une séance de présentation de l’école à destination de celles et ceux qui n’auraient pas eu l’occasion de participer à notre journée portes ouvertes du 16 novembre (les informations communiquées seront les mêmes).\nCelle-ci\, prévue le mercredi 22 janvier 2025 (14h00 – 15h30)\, vous offrira l’opportunité de rencontrer la Direction et de faire une brève visite de l’école. Intéressé(e) ? Merci de vous inscrire ici !
URL:https://secondaire.saint-boni.be/event/presentation-de-linstitut-inscriptions-1re-25-26/
CATEGORIES:Events Institut
END:VEVENT
BEGIN:VEVENT
DTSTART;VALUE=DATE:20250131
DTEND;VALUE=DATE:20250203
DTSTAMP:20260425T173116
CREATED:20240904T103010Z
LAST-MODIFIED:20240904T103010Z
UID:3631-1738281600-1738540799@secondaire.saint-boni.be
SUMMARY:Festivités de la Chandeleur
DESCRIPTION:
URL:https://secondaire.saint-boni.be/event/festivites-de-la-chandeleur-2/
CATEGORIES:Events Institut
END:VEVENT
END:VCALENDAR