BEGIN:VCALENDAR
VERSION:2.0
PRODID:-//Institut Saint-Boniface Parnasse - ECPv6.15.20//NONSGML v1.0//EN
CALSCALE:GREGORIAN
METHOD:PUBLISH
X-ORIGINAL-URL:https://secondaire.saint-boni.be
X-WR-CALDESC:Évènements pour Institut Saint-Boniface Parnasse
REFRESH-INTERVAL;VALUE=DURATION:PT1H
X-Robots-Tag:noindex
X-PUBLISHED-TTL:PT1H
BEGIN:VTIMEZONE
TZID:Europe/Brussels
BEGIN:DAYLIGHT
TZOFFSETFROM:+0100
TZOFFSETTO:+0200
TZNAME:CEST
DTSTART:20240331T010000
END:DAYLIGHT
BEGIN:STANDARD
TZOFFSETFROM:+0200
TZOFFSETTO:+0100
TZNAME:CET
DTSTART:20241027T010000
END:STANDARD
BEGIN:DAYLIGHT
TZOFFSETFROM:+0100
TZOFFSETTO:+0200
TZNAME:CEST
DTSTART:20250330T010000
END:DAYLIGHT
BEGIN:STANDARD
TZOFFSETFROM:+0200
TZOFFSETTO:+0100
TZNAME:CET
DTSTART:20251026T010000
END:STANDARD
BEGIN:DAYLIGHT
TZOFFSETFROM:+0100
TZOFFSETTO:+0200
TZNAME:CEST
DTSTART:20260329T010000
END:DAYLIGHT
BEGIN:STANDARD
TZOFFSETFROM:+0200
TZOFFSETTO:+0100
TZNAME:CET
DTSTART:20261025T010000
END:STANDARD
END:VTIMEZONE
BEGIN:VEVENT
DTSTART;VALUE=DATE:20250131
DTEND;VALUE=DATE:20250203
DTSTAMP:20260425T154320
CREATED:20240904T103010Z
LAST-MODIFIED:20240904T103010Z
UID:3631-1738281600-1738540799@secondaire.saint-boni.be
SUMMARY:Festivités de la Chandeleur
DESCRIPTION:
URL:https://secondaire.saint-boni.be/event/festivites-de-la-chandeleur-2/
CATEGORIES:Events Institut
END:VEVENT
BEGIN:VEVENT
DTSTART;TZID=Europe/Brussels:20250218T200000
DTEND;TZID=Europe/Brussels:20250218T213000
DTSTAMP:20260425T154320
CREATED:20241122T152648Z
LAST-MODIFIED:20250218T093632Z
UID:3803-1739908800-1739914200@secondaire.saint-boni.be
SUMMARY:Soirée d'information sur les études et professions
DESCRIPTION:Soirée à destination des élèves de 5 et 6e secondaire au cours de laquelle ils auront l’occasion de rencontrer des étudiants et professionnels issus de nombreux métiers.
URL:https://secondaire.saint-boni.be/event/soiree-dinformation-sur-les-etudes-et-professions/
CATEGORIES:Events - 6es
END:VEVENT
BEGIN:VEVENT
DTSTART;VALUE=DATE:20250219
DTEND;VALUE=DATE:20250222
DTSTAMP:20260425T154320
CREATED:20240904T103049Z
LAST-MODIFIED:20240904T103049Z
UID:3633-1739923200-1740182399@secondaire.saint-boni.be
SUMMARY:Retraites des 5e
DESCRIPTION:Les informations seront envoyées en temps utiles.
URL:https://secondaire.saint-boni.be/event/retraites-des-5e/
CATEGORIES:Events - 5es
END:VEVENT
BEGIN:VEVENT
DTSTART;VALUE=DATE:20250219
DTEND;VALUE=DATE:20250222
DTSTAMP:20260425T154320
CREATED:20240904T103134Z
LAST-MODIFIED:20240904T103134Z
UID:3635-1739923200-1740182399@secondaire.saint-boni.be
SUMMARY:Journées sociales des rhétos
DESCRIPTION:Les informations arriveront en temps utiles.
URL:https://secondaire.saint-boni.be/event/journees-sociales-des-rhetos/
CATEGORIES:Events - 6es
END:VEVENT
BEGIN:VEVENT
DTSTART;VALUE=DATE:20250222
DTEND;VALUE=DATE:20250310
DTSTAMP:20260425T154320
CREATED:20240904T103318Z
LAST-MODIFIED:20240904T103318Z
UID:3637-1740182400-1741564799@secondaire.saint-boni.be
SUMMARY:Congé de Carnaval
DESCRIPTION:
URL:https://secondaire.saint-boni.be/event/conge-de-carnaval-4/
CATEGORIES:Events - 1res,Events - 2es,Events - 3es,Events - 4es,Events - 5es,Events - 6es,Events Institut
END:VEVENT
END:VCALENDAR