BEGIN:VCALENDAR
VERSION:2.0
PRODID:-//Institut Saint-Boniface Parnasse - ECPv6.15.20//NONSGML v1.0//EN
CALSCALE:GREGORIAN
METHOD:PUBLISH
X-WR-CALNAME:Institut Saint-Boniface Parnasse
X-ORIGINAL-URL:https://secondaire.saint-boni.be
X-WR-CALDESC:Évènements pour Institut Saint-Boniface Parnasse
REFRESH-INTERVAL;VALUE=DURATION:PT1H
X-Robots-Tag:noindex
X-PUBLISHED-TTL:PT1H
BEGIN:VTIMEZONE
TZID:Europe/Brussels
BEGIN:DAYLIGHT
TZOFFSETFROM:+0100
TZOFFSETTO:+0200
TZNAME:CEST
DTSTART:20240331T010000
END:DAYLIGHT
BEGIN:STANDARD
TZOFFSETFROM:+0200
TZOFFSETTO:+0100
TZNAME:CET
DTSTART:20241027T010000
END:STANDARD
BEGIN:DAYLIGHT
TZOFFSETFROM:+0100
TZOFFSETTO:+0200
TZNAME:CEST
DTSTART:20250330T010000
END:DAYLIGHT
BEGIN:STANDARD
TZOFFSETFROM:+0200
TZOFFSETTO:+0100
TZNAME:CET
DTSTART:20251026T010000
END:STANDARD
BEGIN:DAYLIGHT
TZOFFSETFROM:+0100
TZOFFSETTO:+0200
TZNAME:CEST
DTSTART:20260329T010000
END:DAYLIGHT
BEGIN:STANDARD
TZOFFSETFROM:+0200
TZOFFSETTO:+0100
TZNAME:CET
DTSTART:20261025T010000
END:STANDARD
END:VTIMEZONE
BEGIN:VEVENT
DTSTART;VALUE=DATE:20250222
DTEND;VALUE=DATE:20250310
DTSTAMP:20260425T140521
CREATED:20240904T103318Z
LAST-MODIFIED:20240904T103318Z
UID:3637-1740182400-1741564799@secondaire.saint-boni.be
SUMMARY:Congé de Carnaval
DESCRIPTION:
URL:https://secondaire.saint-boni.be/event/conge-de-carnaval-4/
CATEGORIES:Events - 1res,Events - 2es,Events - 3es,Events - 4es,Events - 5es,Events - 6es,Events Institut
END:VEVENT
BEGIN:VEVENT
DTSTART;TZID=Europe/Brussels:20250311T193000
DTEND;TZID=Europe/Brussels:20250311T213000
DTSTAMP:20260425T140521
CREATED:20240904T103544Z
LAST-MODIFIED:20240904T103728Z
UID:3639-1741721400-1741728600@secondaire.saint-boni.be
SUMMARY:Soirée d'information sur les options du 2e degré
DESCRIPTION:Soirée de présentation des options organisées à l’Institut en 3e et 4e secondaire.
URL:https://secondaire.saint-boni.be/event/soiree-dinformation-sur-les-options-du-2e-degre-2/
CATEGORIES:Events - 3es,Events - 4es,Events Institut
END:VEVENT
BEGIN:VEVENT
DTSTART;TZID=Europe/Brussels:20250318T193000
DTEND;TZID=Europe/Brussels:20250318T213000
DTSTAMP:20260425T140521
CREATED:20240904T103644Z
LAST-MODIFIED:20240904T103644Z
UID:3641-1742326200-1742333400@secondaire.saint-boni.be
SUMMARY:Soirée d'information sur les options du 3e degré
DESCRIPTION:Soirée de présentation des options organisées à l’Institut en 5e et 6e secondaire.
URL:https://secondaire.saint-boni.be/event/soiree-dinformation-sur-les-options-du-3e-degre-2/
CATEGORIES:Events - 5es,Events - 6es,Events Institut
END:VEVENT
BEGIN:VEVENT
DTSTART;TZID=Europe/Brussels:20250321T100000
DTEND;TZID=Europe/Brussels:20250321T120000
DTSTAMP:20260425T140521
CREATED:20240904T103943Z
LAST-MODIFIED:20240904T103943Z
UID:3643-1742551200-1742558400@secondaire.saint-boni.be
SUMMARY:Témoignages
DESCRIPTION:Les élèves de l’Institut rencontreront des personnes qui s’investissent de différentes façons dans la société.
URL:https://secondaire.saint-boni.be/event/temoignages/
CATEGORIES:Events - 1res,Events - 2es,Events - 3es,Events - 4es,Events - 5es,Events - 6es,Events Institut
END:VEVENT
BEGIN:VEVENT
DTSTART;VALUE=DATE:20250324
DTEND;VALUE=DATE:20250326
DTSTAMP:20260425T140521
CREATED:20240904T104045Z
LAST-MODIFIED:20240904T104045Z
UID:3645-1742774400-1742947199@secondaire.saint-boni.be
SUMMARY:Journées pédagogiques
DESCRIPTION:Les professeurs seront en formation.\nLes élèves du secondaire ne sont pas attendus à l’Institut ces jours-là.
URL:https://secondaire.saint-boni.be/event/journees-pedagogiques-2/
CATEGORIES:Events - 1res,Events - 2es,Events - 3es,Events - 4es,Events - 5es,Events - 6es,Events Institut
END:VEVENT
BEGIN:VEVENT
DTSTART;VALUE=DATE:20250327
DTEND;VALUE=DATE:20250329
DTSTAMP:20260425T140521
CREATED:20240904T104221Z
LAST-MODIFIED:20240904T104221Z
UID:3647-1743033600-1743206399@secondaire.saint-boni.be
SUMMARY:Caberboni - Soirées des talents
DESCRIPTION:2 séances : jeudi et vendredi (20h00-23h00).\nInformations et inscriptions suivront en temps utiles.
URL:https://secondaire.saint-boni.be/event/caberboni-soirees-des-talents/
CATEGORIES:Events - 1res,Events - 2es,Events - 3es,Events - 4es,Events - 5es,Events - 6es,Events Institut
END:VEVENT
BEGIN:VEVENT
DTSTART;TZID=Europe/Brussels:20250328T083000
DTEND;TZID=Europe/Brussels:20250328T160000
DTSTAMP:20260425T140521
CREATED:20240904T104308Z
LAST-MODIFIED:20240904T104308Z
UID:3649-1743150600-1743177600@secondaire.saint-boni.be
SUMMARY:100 jours des rhétos
DESCRIPTION:
URL:https://secondaire.saint-boni.be/event/100-jours-des-rhetos-3/
CATEGORIES:Events - 6es
END:VEVENT
BEGIN:VEVENT
DTSTART;VALUE=DATE:20250331
DTEND;VALUE=DATE:20250405
DTSTAMP:20260425T140521
CREATED:20240904T104527Z
LAST-MODIFIED:20240923T130647Z
UID:3653-1743379200-1743811199@secondaire.saint-boni.be
SUMMARY:Voyages de rhéto
DESCRIPTION:Les informations seront communiquées par les titulaires.
URL:https://secondaire.saint-boni.be/event/voyages-de-rheto-2/
CATEGORIES:Events - 6es
END:VEVENT
END:VCALENDAR